BEGIN:VCALENDAR
VERSION:2.0
PRODID:-//Library Market//iCal Export//EN
BEGIN:VEVENT
SUMMARY:Writer Sneak Peeks!
UID:3641
DTSTAMP:20260420T205500Z
DTSTART:20270121T230000Z
DTEND:20270122T010000Z
LOCATION:Norwalk Public Library, 1 Belden Ave, Norwalk, CT 06850, United S
 tates
ROOM: First Floor Cafe Area
DESCRIPTION:Â to register, emailÂ andrea@connecticutbookfestivals.comÂ Â Â
  
URL:https://norwalkpl.librarycalendar.com/event/writer-sneak-peeks-3641
END:VEVENT
END:VCALENDAR
