BEGIN:VCALENDAR
VERSION:2.0
PRODID:-//Library Market//iCal Export//EN
BEGIN:VEVENT
SUMMARY:Summer Sundays Poetry Open Mic
UID:3625
DTSTAMP:20260420T205500Z
DTSTART:20260614T183000Z
DTEND:20260614T203000Z
LOCATION:Norwalk Public Library, 1 Belden Ave, Norwalk, CT 06850, United S
 tates
ROOM: Full Auditorium
DESCRIPTION: 
URL:https://norwalkpl.librarycalendar.com/event/poetry-open-mic-3625
END:VEVENT
END:VCALENDAR
